Package: viper Version: 1.45.0 Command: /Library/Frameworks/R.framework/Resources/bin/R CMD build --keep-empty-dirs --no-resave-data viper StartedAt: 2025-11-20 19:07:42 -0500 (Thu, 20 Nov 2025) EndedAt: 2025-11-20 19:12:09 -0500 (Thu, 20 Nov 2025) EllapsedTime: 266.8 seconds RetCode: 0 Status: OK PackageFile: viper_1.45.0.tar.gz PackageFileSize: 502.5 KiB