Package: viper Version: 1.45.0 Command: rm -rf viper.buildbin-libdir && mkdir viper.buildbin-libdir && /Users/biocbuild/BBS/utils/build-universal.sh viper_1.45.0.tar.gz /Library/Frameworks/R.framework/Resources/bin/R viper.buildbin-libdir StartedAt: 2025-11-21 02:03:19 -0500 (Fri, 21 Nov 2025) EndedAt: 2025-11-21 02:03:42 -0500 (Fri, 21 Nov 2025) EllapsedTime: 23.0 seconds RetCode: 0 Status: OK PackageFile: viper_1.45.0.tgz PackageFileSize: 761.5 KiB