Package: viper Version: 1.43.0 Command: /Library/Frameworks/R.framework/Resources/bin/R CMD INSTALL viper StartedAt: 2025-10-23 15:07:19 -0400 (Thu, 23 Oct 2025) EndedAt: 2025-10-23 15:07:25 -0400 (Thu, 23 Oct 2025) EllapsedTime: 5.7 seconds RetCode: 0 Status: OK