Package: viper Version: 1.43.0 Command: /Library/Frameworks/R.framework/Resources/bin/R CMD build --keep-empty-dirs --no-resave-data viper StartedAt: 2025-10-23 18:09:53 -0400 (Thu, 23 Oct 2025) EndedAt: 2025-10-23 18:11:37 -0400 (Thu, 23 Oct 2025) EllapsedTime: 104.1 seconds RetCode: 0 Status: OK PackageFile: viper_1.43.0.tar.gz PackageFileSize: 503.6 KiB