Package: viper Version: 1.43.0 Command: rm -rf viper.buildbin-libdir && mkdir viper.buildbin-libdir && /Users/biocbuild/BBS/utils/build-universal.sh viper_1.43.0.tar.gz /Library/Frameworks/R.framework/Resources/bin/R viper.buildbin-libdir StartedAt: 2025-10-23 23:31:24 -0400 (Thu, 23 Oct 2025) EndedAt: 2025-10-23 23:31:31 -0400 (Thu, 23 Oct 2025) EllapsedTime: 7.2 seconds RetCode: 0 Status: OK PackageFile: viper_1.43.0.tgz PackageFileSize: 764.9 KiB