Back to Build/check report for BioC 3.23:   simplified   long
ABCDEFGHIJKLMNOPQRSTU[V]WXYZ

This page was generated on 2025-10-31 08:34 -0400 (Fri, 31 Oct 2025).

HostnameOSArch (*)R versionInstalled pkgs
nebbiolo1Linux (Ubuntu 24.04.3 LTS)x86_64R Under development (unstable) (2025-10-20 r88955) -- "Unsuffered Consequences" 4428
Click on any hostname to see more info about the system (e.g. compilers)      (*) as reported by 'uname -p', except on Windows and Mac OS X

All results for package viper


To the developers/maintainers of the viper package:
- Allow up to 24 hours (and sometimes 48 hours) for your latest push to git@git.bioconductor.org:packages/viper.git to reflect on this report. See Troubleshooting Build Report for more information.
- Use the following Renviron settings to reproduce errors and warnings.
- If 'R CMD check' started to fail recently on the Linux builder(s) over a missing dependency, add the missing dependency to 'Suggests:' in your DESCRIPTION file. See Renviron.bioc for more information.

raw results

Package 2279/2321HostnameOS / ArchINSTALLBUILDCHECKBUILD BIN
viper 1.45.0  (landing page)
Mariano J Alvarez
Snapshot Date: 2025-10-30 13:40 -0400 (Thu, 30 Oct 2025)
git_url: https://git.bioconductor.org/packages/viper
git_branch: devel
git_last_commit: fbaf77d
git_last_commit_date: 2025-10-29 10:18:41 -0400 (Wed, 29 Oct 2025)
nebbiolo1Linux (Ubuntu 24.04.3 LTS) / x86_64  OK    OK    WARNINGS  YES



Results for Bioconductor software packages that depend directly on package viper

QUICK STATSOS / ArchINSTALLBUILDCHECKBUILD BIN
nebbiolo1Linux (Ubuntu 24.04.3 LTS) / x86_64
012
012
0011
Package 1/3HostnameOS / ArchINSTALLBUILDCHECKBUILD BIN
diggit 1.43.0  (landing page)
Mariano J Alvarez
git_last_commit: ea7ead6
git_last_commit_date: 2025-10-29 10:24:26 -0400
nebbiolo1Linux (Ubuntu 24.04.3 LTS) / x86_64  OK    OK    WARNINGS  YES
Package 2/3HostnameOS / ArchINSTALLBUILDCHECKBUILD BIN
RTN 2.35.0  (landing page)
Mauro Castro
git_last_commit: 4efc78c
git_last_commit_date: 2025-10-29 10:15:52 -0400
nebbiolo1Linux (Ubuntu 24.04.3 LTS) / x86_64  OK    OK    OK  NO, package depends on 'IRanges' which is not available
Package 3/3HostnameOS / ArchINSTALLBUILDCHECKBUILD BIN
vulcan 1.33.0  (landing page)
Federico M. Giorgi
git_last_commit: 2216885
git_last_commit_date: 2025-10-29 10:41:08 -0400
nebbiolo1Linux (Ubuntu 24.04.3 LTS) / x86_64  ERROR    ERROR  skipped