Package: vidger Version: 1.31.0 Command: /home/biocbuild/bbs-3.23-bioc/R/bin/R CMD INSTALL vidger StartedAt: 2025-11-23 15:22:39 -0500 (Sun, 23 Nov 2025) EndedAt: 2025-11-23 15:23:14 -0500 (Sun, 23 Nov 2025) EllapsedTime: 35.0 seconds RetCode: 0 Status: OK