Package: vidger Version: 1.31.0 Command: /home/biocbuild/bbs-3.23-bioc/R/bin/R CMD build --keep-empty-dirs --no-resave-data vidger StartedAt: 2025-11-23 20:41:18 -0500 (Sun, 23 Nov 2025) EndedAt: 2025-11-23 20:43:05 -0500 (Sun, 23 Nov 2025) EllapsedTime: 107.1 seconds RetCode: 0 Status: OK PackageFile: vidger_1.31.0.tar.gz PackageFileSize: 7.854 MiB