Package: vidger Version: 1.31.0 Command: /Library/Frameworks/R.framework/Resources/bin/R CMD INSTALL vidger StartedAt: 2025-11-24 15:13:24 -0500 (Mon, 24 Nov 2025) EndedAt: 2025-11-24 15:13:38 -0500 (Mon, 24 Nov 2025) EllapsedTime: 14.1 seconds RetCode: 0 Status: OK