Package: vidger Version: 1.31.0 Command: /Library/Frameworks/R.framework/Resources/bin/R CMD build --keep-empty-dirs --no-resave-data vidger StartedAt: 2025-11-24 18:14:32 -0500 (Mon, 24 Nov 2025) EndedAt: 2025-11-24 18:15:22 -0500 (Mon, 24 Nov 2025) EllapsedTime: 50.6 seconds RetCode: 0 Status: OK PackageFile: vidger_1.31.0.tar.gz PackageFileSize: 8.726 MiB