Package: vidger Version: 1.31.0 Command: rm -rf vidger.buildbin-libdir && mkdir vidger.buildbin-libdir && /Users/biocbuild/BBS/utils/build-universal.sh vidger_1.31.0.tar.gz /Library/Frameworks/R.framework/Resources/bin/R vidger.buildbin-libdir StartedAt: 2025-11-25 00:04:38 -0500 (Tue, 25 Nov 2025) EndedAt: 2025-11-25 00:04:56 -0500 (Tue, 25 Nov 2025) EllapsedTime: 17.4 seconds RetCode: 0 Status: OK PackageFile: vidger_1.31.0.tgz PackageFileSize: 8.962 MiB