Package: veloviz Version: 1.17.0 Command: /Library/Frameworks/R.framework/Resources/bin/R CMD INSTALL veloviz StartedAt: 2025-11-21 15:03:52 -0500 (Fri, 21 Nov 2025) EndedAt: 2025-11-21 15:04:13 -0500 (Fri, 21 Nov 2025) EllapsedTime: 20.8 seconds RetCode: 0 Status: OK