Package: veloviz Version: 1.17.0 Command: /Library/Frameworks/R.framework/Resources/bin/R CMD build --keep-empty-dirs --no-resave-data veloviz StartedAt: 2025-11-20 18:05:20 -0500 (Thu, 20 Nov 2025) EndedAt: 2025-11-20 18:05:28 -0500 (Thu, 20 Nov 2025) EllapsedTime: 8.1 seconds RetCode: 0 Status: OK PackageFile: veloviz_1.17.0.tar.gz PackageFileSize: 3.578 MiB