Package: veloviz Version: 1.17.0 Command: rm -rf veloviz.buildbin-libdir && mkdir veloviz.buildbin-libdir && /Users/biocbuild/BBS/utils/build-universal.sh veloviz_1.17.0.tar.gz /Library/Frameworks/R.framework/Resources/bin/R veloviz.buildbin-libdir StartedAt: 2025-11-20 23:56:55 -0500 (Thu, 20 Nov 2025) EndedAt: 2025-11-20 23:57:02 -0500 (Thu, 20 Nov 2025) EllapsedTime: 7.1 seconds RetCode: 0 Status: OK PackageFile: veloviz_1.17.0.tgz PackageFileSize: 3.67 MiB