Package: velociraptor Version: 1.21.0 Command: /home/biocbuild/bbs-3.23-bioc/R/bin/R CMD INSTALL velociraptor StartedAt: 2025-11-20 15:52:27 -0500 (Thu, 20 Nov 2025) EndedAt: 2025-11-20 15:52:47 -0500 (Thu, 20 Nov 2025) EllapsedTime: 19.3 seconds RetCode: 0 Status: OK