Package: velociraptor Version: 1.21.0 Command: /home/biocbuild/bbs-3.23-bioc/R/bin/R CMD build --keep-empty-dirs --no-resave-data velociraptor StartedAt: 2025-11-20 20:42:30 -0500 (Thu, 20 Nov 2025) EndedAt: 2025-11-20 20:44:37 -0500 (Thu, 20 Nov 2025) EllapsedTime: 127.1 seconds RetCode: 0 Status: OK PackageFile: velociraptor_1.21.0.tar.gz PackageFileSize: 789.4 KiB