Package: velociraptor Version: 1.19.1 Command: /Library/Frameworks/R.framework/Resources/bin/R CMD INSTALL velociraptor StartedAt: 2025-10-17 15:28:48 -0400 (Fri, 17 Oct 2025) EndedAt: 2025-10-17 15:28:56 -0400 (Fri, 17 Oct 2025) EllapsedTime: 8.3 seconds RetCode: 0 Status: OK