Package: velociraptor Version: 1.19.1 Command: /Library/Frameworks/R.framework/Resources/bin/R CMD build --keep-empty-dirs --no-resave-data velociraptor StartedAt: 2025-10-17 18:07:37 -0400 (Fri, 17 Oct 2025) EndedAt: 2025-10-17 18:07:59 -0400 (Fri, 17 Oct 2025) EllapsedTime: 22.3 seconds RetCode: 1 Status: ERROR PackageFile: None PackageFileSize: NA