Package: vbmp Version: 1.77.0 Command: /Library/Frameworks/R.framework/Resources/bin/R CMD INSTALL vbmp StartedAt: 2025-10-09 15:06:16 -0400 (Thu, 09 Oct 2025) EndedAt: 2025-10-09 15:06:57 -0400 (Thu, 09 Oct 2025) EllapsedTime: 41.4 seconds RetCode: 0 Status: OK