Package: vbmp Version: 1.77.0 Command: /Library/Frameworks/R.framework/Resources/bin/R CMD build --keep-empty-dirs --no-resave-data vbmp StartedAt: 2025-10-10 19:39:50 -0400 (Fri, 10 Oct 2025) EndedAt: 2025-10-10 19:40:31 -0400 (Fri, 10 Oct 2025) EllapsedTime: 41.1 seconds RetCode: 0 Status: OK PackageFile: vbmp_1.77.0.tar.gz PackageFileSize: 1.761 MiB