Package: variancePartition Version: 1.41.0 Command: /home/biocbuild/bbs-3.23-bioc/R/bin/R CMD INSTALL variancePartition StartedAt: 2025-11-07 15:12:14 -0500 (Fri, 07 Nov 2025) EndedAt: 2025-11-07 15:12:34 -0500 (Fri, 07 Nov 2025) EllapsedTime: 20.2 seconds RetCode: 0 Status: OK