Package: variancePartition Version: 1.41.0 Command: /home/biocbuild/bbs-3.23-bioc/R/bin/R CMD build --keep-empty-dirs --no-resave-data variancePartition StartedAt: 2025-11-07 20:36:25 -0500 (Fri, 07 Nov 2025) EndedAt: 2025-11-07 20:47:22 -0500 (Fri, 07 Nov 2025) EllapsedTime: 656.5 seconds RetCode: 0 Status: OK PackageFile: variancePartition_1.41.0.tar.gz PackageFileSize: 4.722 MiB