Package: updateObject Version: 1.15.0 Command: /home/biocbuild/bbs-3.23-bioc/R/bin/R CMD INSTALL updateObject StartedAt: 2025-11-17 15:13:48 -0500 (Mon, 17 Nov 2025) EndedAt: 2025-11-17 15:13:52 -0500 (Mon, 17 Nov 2025) EllapsedTime: 4.4 seconds RetCode: 0 Status: OK