Package: updateObject Version: 1.13.0 Command: /Library/Frameworks/R.framework/Resources/bin/R CMD check --install=check:updateObject.install-out.txt --library=/Library/Frameworks/R.framework/Resources/library --no-vignettes --timings updateObject_1.13.0.tar.gz StartedAt: 2025-10-05 22:20:29 -0400 (Sun, 05 Oct 2025) EndedAt: 2025-10-05 22:20:52 -0400 (Sun, 05 Oct 2025) EllapsedTime: 23.3 seconds RetCode: 0 Status: OK CheckDir: updateObject.Rcheck Warnings: 0