Package: universalmotif Version: 1.29.0 Command: /home/biocbuild/bbs-3.23-bioc/R/bin/R CMD INSTALL universalmotif StartedAt: 2025-11-06 15:15:42 -0500 (Thu, 06 Nov 2025) EndedAt: 2025-11-06 15:17:28 -0500 (Thu, 06 Nov 2025) EllapsedTime: 106.3 seconds RetCode: 0 Status: OK