Package: universalmotif Version: 1.29.0 Command: /home/biocbuild/bbs-3.23-bioc/R/bin/R CMD build --keep-empty-dirs --no-resave-data universalmotif StartedAt: 2025-11-06 20:32:08 -0500 (Thu, 06 Nov 2025) EndedAt: 2025-11-06 20:36:14 -0500 (Thu, 06 Nov 2025) EllapsedTime: 246.2 seconds RetCode: 0 Status: OK PackageFile: universalmotif_1.29.0.tar.gz PackageFileSize: 3.543 MiB