Package: universalmotif Version: 1.27.4 Command: /Library/Frameworks/R.framework/Resources/bin/R CMD INSTALL universalmotif StartedAt: 2025-10-20 15:08:14 -0400 (Mon, 20 Oct 2025) EndedAt: 2025-10-20 15:08:46 -0400 (Mon, 20 Oct 2025) EllapsedTime: 32.1 seconds RetCode: 0 Status: OK