Package: universalmotif Version: 1.27.4 Command: /Library/Frameworks/R.framework/Resources/bin/R CMD build --keep-empty-dirs --no-resave-data universalmotif StartedAt: 2025-10-20 18:02:04 -0400 (Mon, 20 Oct 2025) EndedAt: 2025-10-20 18:03:41 -0400 (Mon, 20 Oct 2025) EllapsedTime: 97.1 seconds RetCode: 0 Status: OK PackageFile: universalmotif_1.27.4.tar.gz PackageFileSize: 3.635 MiB