Package: universalmotif Version: 1.27.4 Command: rm -rf universalmotif.buildbin-libdir && mkdir universalmotif.buildbin-libdir && /Users/biocbuild/BBS/utils/build-universal.sh universalmotif_1.27.4.tar.gz /Library/Frameworks/R.framework/Resources/bin/R universalmotif.buildbin-libdir StartedAt: 2025-10-20 23:20:55 -0400 (Mon, 20 Oct 2025) EndedAt: 2025-10-20 23:21:29 -0400 (Mon, 20 Oct 2025) EllapsedTime: 34.7 seconds RetCode: 0 Status: OK PackageFile: universalmotif_1.27.4.tgz PackageFileSize: 5.628 MiB