Package: unifiedWMWqPCR Version: 1.45.0 Command: chmod a+r unifiedWMWqPCR -R && F:\biocbuild\bbs-3.22-bioc\R\bin\R.exe CMD build --keep-empty-dirs --no-resave-data unifiedWMWqPCR StartedAt: 2025-08-14 23:54:32 -0400 (Thu, 14 Aug 2025) EndedAt: 2025-08-14 23:55:08 -0400 (Thu, 14 Aug 2025) EllapsedTime: 35.8 seconds RetCode: 0 Status: OK PackageFile: unifiedWMWqPCR_1.45.0.tar.gz PackageFileSize: 502 KiB