Package: unifiedWMWqPCR Version: 1.45.0 Command: rm -rf unifiedWMWqPCR.buildbin-libdir && mkdir unifiedWMWqPCR.buildbin-libdir && F:\biocbuild\bbs-3.22-bioc\R\bin\R.exe CMD INSTALL --build --library=unifiedWMWqPCR.buildbin-libdir unifiedWMWqPCR_1.45.0.tar.gz StartedAt: 2025-08-15 11:33:42 -0400 (Fri, 15 Aug 2025) EndedAt: 2025-08-15 11:34:46 -0400 (Fri, 15 Aug 2025) EllapsedTime: 63.7 seconds RetCode: 0 Status: OK PackageFile: unifiedWMWqPCR_1.45.0.zip PackageFileSize: 739.2 KiB