Package: unifiedWMWqPCR Version: 1.47.0 Command: /home/biocbuild/bbs-3.23-bioc/R/bin/R CMD INSTALL unifiedWMWqPCR StartedAt: 2025-11-02 15:18:06 -0500 (Sun, 02 Nov 2025) EndedAt: 2025-11-02 15:18:10 -0500 (Sun, 02 Nov 2025) EllapsedTime: 4.0 seconds RetCode: 0 Status: OK