Package: unifiedWMWqPCR Version: 1.47.0 Command: /Library/Frameworks/R.framework/Resources/bin/R CMD check --install=check:unifiedWMWqPCR.install-out.txt --library=/Library/Frameworks/R.framework/Resources/library --no-vignettes --timings unifiedWMWqPCR_1.47.0.tar.gz StartedAt: 2025-11-23 23:09:21 -0500 (Sun, 23 Nov 2025) EndedAt: 2025-11-23 23:09:39 -0500 (Sun, 23 Nov 2025) EllapsedTime: 18.2 seconds RetCode: 0 Status: OK CheckDir: unifiedWMWqPCR.Rcheck Warnings: 0