Package: uncoverappLib Version: 1.19.0 Command: /home/biocbuild/R/R/bin/R CMD INSTALL uncoverappLib StartedAt: 2025-10-06 21:21:29 -0000 (Mon, 06 Oct 2025) EndedAt: 2025-10-06 21:22:45 -0000 (Mon, 06 Oct 2025) EllapsedTime: 76.3 seconds RetCode: 0 Status: OK