Package: uncoverappLib Version: 1.19.0 Command: chmod a+r uncoverappLib -R && F:\biocbuild\bbs-3.22-bioc\R\bin\R.exe CMD build --keep-empty-dirs --no-resave-data uncoverappLib StartedAt: 2025-08-14 23:54:09 -0400 (Thu, 14 Aug 2025) EndedAt: 2025-08-14 23:56:00 -0400 (Thu, 14 Aug 2025) EllapsedTime: 110.1 seconds RetCode: 0 Status: OK PackageFile: uncoverappLib_1.19.0.tar.gz PackageFileSize: 3.43 MiB