Package: uncoverappLib Version: 1.19.0 Command: rm -rf uncoverappLib.buildbin-libdir && mkdir uncoverappLib.buildbin-libdir && F:\biocbuild\bbs-3.22-bioc\R\bin\R.exe CMD INSTALL --build --library=uncoverappLib.buildbin-libdir uncoverappLib_1.19.0.tar.gz StartedAt: 2025-08-15 11:33:38 -0400 (Fri, 15 Aug 2025) EndedAt: 2025-08-15 11:34:59 -0400 (Fri, 15 Aug 2025) EllapsedTime: 80.9 seconds RetCode: 0 Status: OK PackageFile: uncoverappLib_1.19.0.zip PackageFileSize: 2.842 MiB