Package: uncoverappLib Version: 1.19.0 Command: /home/biocbuild/bbs-3.22-bioc/R/bin/R CMD check --install=check:uncoverappLib.install-out.txt --library=/home/biocbuild/bbs-3.22-bioc/R/site-library --timings uncoverappLib_1.19.0.tar.gz StartedAt: 2025-09-30 05:36:50 -0400 (Tue, 30 Sep 2025) EndedAt: 2025-09-30 05:43:43 -0400 (Tue, 30 Sep 2025) EllapsedTime: 413.3 seconds RetCode: 0 Status: OK CheckDir: uncoverappLib.Rcheck Warnings: 0