Package: uncoverappLib Version: 1.21.0 Command: /home/biocbuild/bbs-3.23-bioc/R/bin/R CMD INSTALL uncoverappLib StartedAt: 2025-11-04 15:58:32 -0500 (Tue, 04 Nov 2025) EndedAt: 2025-11-04 15:59:31 -0500 (Tue, 04 Nov 2025) EllapsedTime: 59.1 seconds RetCode: 0 Status: OK