Package: uncoverappLib Version: 1.21.0 Command: /home/biocbuild/bbs-3.23-bioc/R/bin/R CMD check --install=check:uncoverappLib.install-out.txt --library=/home/biocbuild/bbs-3.23-bioc/R/site-library --timings uncoverappLib_1.21.0.tar.gz StartedAt: 2025-11-07 04:48:45 -0500 (Fri, 07 Nov 2025) EndedAt: 2025-11-07 04:55:37 -0500 (Fri, 07 Nov 2025) EllapsedTime: 412.4 seconds RetCode: 0 Status: OK CheckDir: uncoverappLib.Rcheck Warnings: 0