Package: uncoverappLib Version: 1.21.0 Command: /home/biocbuild/bbs-3.23-bioc/R/bin/R CMD build --keep-empty-dirs --no-resave-data uncoverappLib StartedAt: 2025-11-04 20:32:32 -0500 (Tue, 04 Nov 2025) EndedAt: 2025-11-04 20:33:50 -0500 (Tue, 04 Nov 2025) EllapsedTime: 78.1 seconds RetCode: 0 Status: OK PackageFile: uncoverappLib_1.21.0.tar.gz PackageFileSize: 3.43 MiB