Package: uSORT Version: 1.37.0 Command: /home/biocbuild/bbs-3.23-bioc/R/bin/R CMD INSTALL uSORT StartedAt: 2025-11-02 15:20:42 -0500 (Sun, 02 Nov 2025) EndedAt: 2025-11-02 15:21:02 -0500 (Sun, 02 Nov 2025) EllapsedTime: 20.1 seconds RetCode: 0 Status: OK