Package: uSORT Version: 1.37.0 Command: /home/biocbuild/bbs-3.23-bioc/R/bin/R CMD build --keep-empty-dirs --no-resave-data uSORT StartedAt: 2025-11-03 20:30:28 -0500 (Mon, 03 Nov 2025) EndedAt: 2025-11-03 20:30:57 -0500 (Mon, 03 Nov 2025) EllapsedTime: 29.0 seconds RetCode: 0 Status: OK PackageFile: uSORT_1.37.0.tar.gz PackageFileSize: 2.814 MiB