Package: uSORT Version: 1.35.0 Command: /Library/Frameworks/R.framework/Resources/bin/R CMD INSTALL uSORT StartedAt: 2025-10-28 15:07:38 -0400 (Tue, 28 Oct 2025) EndedAt: 2025-10-28 15:07:48 -0400 (Tue, 28 Oct 2025) EllapsedTime: 10.0 seconds RetCode: 0 Status: OK