Package: uSORT Version: 1.35.0 Command: /Library/Frameworks/R.framework/Resources/bin/R CMD build --keep-empty-dirs --no-resave-data uSORT StartedAt: 2025-10-27 18:03:52 -0400 (Mon, 27 Oct 2025) EndedAt: 2025-10-27 18:04:08 -0400 (Mon, 27 Oct 2025) EllapsedTime: 15.2 seconds RetCode: 0 Status: OK PackageFile: uSORT_1.35.0.tar.gz PackageFileSize: 2.814 MiB