Package: uSORT Version: 1.35.0 Command: rm -rf uSORT.buildbin-libdir && mkdir uSORT.buildbin-libdir && /Users/biocbuild/BBS/utils/build-universal.sh uSORT_1.35.0.tar.gz /Library/Frameworks/R.framework/Resources/bin/R uSORT.buildbin-libdir StartedAt: 2025-10-28 23:19:55 -0400 (Tue, 28 Oct 2025) EndedAt: 2025-10-28 23:20:12 -0400 (Tue, 28 Oct 2025) EllapsedTime: 17.3 seconds RetCode: 0 Status: OK PackageFile: uSORT_1.35.0.tgz PackageFileSize: 1.975 MiB