Package: twoddpcr Version: 1.35.0 Command: /home/biocbuild/bbs-3.23-bioc/R/bin/R CMD INSTALL twoddpcr StartedAt: 2025-11-20 15:11:37 -0500 (Thu, 20 Nov 2025) EndedAt: 2025-11-20 15:11:48 -0500 (Thu, 20 Nov 2025) EllapsedTime: 11.9 seconds RetCode: 0 Status: OK