Package: twoddpcr Version: 1.35.0 Command: /home/biocbuild/bbs-3.23-bioc/R/bin/R CMD build --keep-empty-dirs --no-resave-data twoddpcr StartedAt: 2025-11-21 20:37:43 -0500 (Fri, 21 Nov 2025) EndedAt: 2025-11-21 20:40:10 -0500 (Fri, 21 Nov 2025) EllapsedTime: 147.1 seconds RetCode: 0 Status: OK PackageFile: twoddpcr_1.35.0.tar.gz PackageFileSize: 3.82 MiB