Package: twoddpcr Version: 1.35.0 Command: /Library/Frameworks/R.framework/Resources/bin/R CMD INSTALL twoddpcr StartedAt: 2025-11-20 15:19:05 -0500 (Thu, 20 Nov 2025) EndedAt: 2025-11-20 15:19:24 -0500 (Thu, 20 Nov 2025) EllapsedTime: 19.4 seconds RetCode: 0 Status: OK