Package: twoddpcr Version: 1.35.0 Command: /Library/Frameworks/R.framework/Resources/bin/R CMD build --keep-empty-dirs --no-resave-data twoddpcr StartedAt: 2025-11-20 19:05:09 -0500 (Thu, 20 Nov 2025) EndedAt: 2025-11-20 19:07:43 -0500 (Thu, 20 Nov 2025) EllapsedTime: 154.3 seconds RetCode: 0 Status: OK PackageFile: twoddpcr_1.35.0.tar.gz PackageFileSize: 3.969 MiB