Package: twoddpcr Version: 1.34.0 Command: /Library/Frameworks/R.framework/Resources/bin/R CMD build --keep-empty-dirs --no-resave-data twoddpcr StartedAt: 2025-10-30 00:29:27 -0400 (Thu, 30 Oct 2025) EndedAt: 2025-10-30 00:30:22 -0400 (Thu, 30 Oct 2025) EllapsedTime: 55.6 seconds RetCode: 0 Status: OK PackageFile: twoddpcr_1.34.0.tar.gz PackageFileSize: 4.244 MiB